BEGIN:VCALENDAR
VERSION:2.0
PRODID:-//ActiveBury//Events//EN
CALSCALE:GREGORIAN
BEGIN:VEVENT
UID:event-2069@activebury.com
DTSTAMP:20260425T133421Z
SUMMARY:Bilenki Duo
DTSTART:20260613T140000
DTEND:20260613T170000
LOCATION:Bordeleau Vineyard & Winery\, 3155 Noble Farm Road\, Eden\, MD 21822
DESCRIPTION:Join us for a Pasta Workshop at Bordeleau Vineyard & Winery\, where you can learn the art of pasta making.\nMore info: https://www.bordeleauwine.com/events\nActiveBury: https://www.activebury.com/events/2069
URL:https://www.activebury.com/events/2069
END:VEVENT
END:VCALENDAR
