BEGIN:VCALENDAR
VERSION:2.0
PRODID:-//ActiveBury//Events//EN
CALSCALE:GREGORIAN
BEGIN:VEVENT
UID:event-2068@activebury.com
DTSTAMP:20260425T134531Z
SUMMARY:Barren Creek Band
DTSTART:20260612T170000
DTEND:20260612T200000
LOCATION:Bordeleau Vineyard & Winery\, 3155 Noble Farm Road\, Eden\, MD 21822
DESCRIPTION:Enjoy an afternoon of live music with Ryan Jackson at Bordeleau Vineyard & Winery.\nMore info: https://www.bordeleauwine.com/events\nActiveBury: https://www.activebury.com/events/2068
URL:https://www.activebury.com/events/2068
END:VEVENT
END:VCALENDAR
