BEGIN:VCALENDAR
VERSION:2.0
PRODID:-//ActiveBury//Events//EN
CALSCALE:GREGORIAN
BEGIN:VEVENT
UID:event-2067@activebury.com
DTSTAMP:20260425T133413Z
SUMMARY:Brittany & Tyler
DTSTART:20260607T140000
DTEND:20260607T170000
LOCATION:Bordeleau Vineyard & Winery\, 3155 Noble Farm Road\, Eden\, MD 21822
DESCRIPTION:Join us for Tin Pan Alley at Bordeleau Vineyard & Winery featuring live music. Enjoy a vibrant atmosphere while sipping on exquisite wines.\nMore info: https://www.bordeleauwine.com/events\nActiveBury: https://www.activebury.com/events/2067
URL:https://www.activebury.com/events/2067
END:VEVENT
END:VCALENDAR
