BEGIN:VCALENDAR
VERSION:2.0
PRODID:-//ActiveBury//Events//EN
CALSCALE:GREGORIAN
BEGIN:VEVENT
UID:event-2066@activebury.com
DTSTAMP:20260425T152032Z
SUMMARY:Bryan Russo
DTSTART:20260606T140000
DTEND:20260606T170000
LOCATION:Bordeleau Vineyard & Winery\, 3155 Noble Farm Road\, Eden\, MD 21822
DESCRIPTION:Join us for a Mother's Day Celebration with special activities and offerings at Bordeleau Vineyard & Winery.\nMore info: https://www.bordeleauwine.com/events\nActiveBury: https://www.activebury.com/events/2066
URL:https://www.activebury.com/events/2066
END:VEVENT
END:VCALENDAR
