BEGIN:VCALENDAR
VERSION:2.0
PRODID:-//ActiveBury//Events//EN
CALSCALE:GREGORIAN
BEGIN:VEVENT
UID:event-2065@activebury.com
DTSTAMP:20260425T133908Z
SUMMARY:Book of the Month: "The Women" by Kristin Hannah
DTSTART:20260313T140000
DTEND:20260313T160000
LOCATION:Ocean Pines Conference Room Branch: Ocean Pines Branch Audience: Adults Categories: Discussion
DESCRIPTION:Copies of the book are available at the Ocean Pines Library circulation desk. 410-208-4014\nMore info: https://worcesterlibrary.libcal.com/event/14827175?hs=a\nActiveBury: https://www.activebury.com/events/2065
URL:https://www.activebury.com/events/2065
END:VEVENT
END:VCALENDAR
