BEGIN:VCALENDAR
VERSION:2.0
PRODID:-//ActiveBury//Events//EN
CALSCALE:GREGORIAN
BEGIN:VEVENT
UID:event-206@activebury.com
DTSTAMP:20260425T133312Z
SUMMARY:Chipman School
DTSTART:20260217T090000
DTEND:20260217T121500
LOCATION:Bookmobile
DESCRIPTION:This event is in the "Everyone" group 9:00am–12:15pm Everyone Bookmobile Offsite Event This event is in the "Everyone" group Feb 17 2026 Tue Chipman School 9:00am–12:15pm Bookmobile Please note you are looking at an event that has already happened. Bookmobile Everyone 711 Lake St.\nMore info: https://www.wicomicolibrary.org/event/chipman-school-20146\nActiveBury: https://www.activebury.com/events/206
URL:https://www.activebury.com/events/206
END:VEVENT
END:VCALENDAR
