BEGIN:VCALENDAR
VERSION:2.0
PRODID:-//ActiveBury//Events//EN
CALSCALE:GREGORIAN
BEGIN:VEVENT
UID:event-2041@activebury.com
DTSTAMP:20260425T133324Z
SUMMARY:Pickleball at YMCA Harmon Courts
DTSTART:20260507T171500
DTEND:20260507T200000
LOCATION:YMCA Harmon Courts
DESCRIPTION:Come join the group for pickleball thursday evenings!\nMore info: https://www.wicomicorecandparks.org/park-list/the-courts-at-harmon-field\nActiveBury: https://www.activebury.com/events/2041
URL:https://www.activebury.com/events/2041
END:VEVENT
END:VCALENDAR
