BEGIN:VCALENDAR
VERSION:2.0
PRODID:-//ActiveBury//Events//EN
CALSCALE:GREGORIAN
BEGIN:VEVENT
UID:event-204@activebury.com
DTSTAMP:20260425T133827Z
SUMMARY:From Page to Play: Daggerheart RPG
DTSTART:20260214T150000
DTEND:20260214T164500
LOCATION:Centre Branch
DESCRIPTION:This event is in the "Ages 12-18" group This event is in the "Ages 18+" group 3:00pm–4:45pm Ages 12-18\, Ages 18+ Centre Branch Open Registration Available This event is in the "Ages 12-18" group This event is in the "Ages 18+" group Feb 14 2026 Sat From Page to Play: Daggerheart RPG 3:00pm–4:45pm Centre Branch Open Please note you are looking at an event that has already happened. Centre Branch The Space at Centre Ages 12-18 \, Ages 18+ Games Registration Available Come take a small step into the world of Role Play Games! We will take 2 sessions each month and help you make a character and then play as that character in a one session game! No experience with previous games required!\nMore info: https://www.wicomicolibrary.org/event/page-play-daggerheart-rpg-21656\nActiveBury: https://www.activebury.com/events/204
URL:https://www.activebury.com/events/204
END:VEVENT
END:VCALENDAR
