BEGIN:VCALENDAR
VERSION:2.0
PRODID:-//ActiveBury//Events//EN
CALSCALE:GREGORIAN
BEGIN:VEVENT
UID:event-203@activebury.com
DTSTAMP:20260425T133311Z
SUMMARY:Read and Roam
DTSTART:20260214T110000
DTEND:20260214T130000
LOCATION:Centre Branch
DESCRIPTION:This event is in the "Ages 18+" group 11:00am–1:00pm Ages 18+ Centre Branch Closed Registration Available This event is in the "Ages 18+" group Feb 14 2026 Sat Read and Roam 11:00am–1:00pm Centre Branch Closed Please note you are looking at an event that has already happened. Centre Branch The Space at Centre Ages 18+ Book Discussion Registration Available Ever wanted to dip your toes into a genre\, but had no clue where to start? Look no longer! We will discuss and explain what a different genre is\, and some authors you can check out each month!\nMore info: https://www.wicomicolibrary.org/event/read-and-roam-21641\nActiveBury: https://www.activebury.com/events/203
URL:https://www.activebury.com/events/203
END:VEVENT
END:VCALENDAR
