BEGIN:VCALENDAR
VERSION:2.0
PRODID:-//ActiveBury//Events//EN
CALSCALE:GREGORIAN
BEGIN:VEVENT
UID:event-202@activebury.com
DTSTAMP:20260425T133818Z
SUMMARY:Poplar Hill Storytime
DTSTART:20260214T110000
DTEND:20260214T120000
LOCATION:Off Site
DESCRIPTION:This event is in the "Ages 0-5" group 11:00am–12:00pm Ages 0-5 Off Site Offsite Event This event is in the "Ages 0-5" group Feb 14 2026 Sat Poplar Hill Storytime 11:00am–12:00pm Off Site Please note you are looking at an event that has already happened. Off Site Ages 0-5 Special Events \, Storytime Enjoy stories\, songs\, and themed activities at Poplar Hill Mansion! Families can discover history and creativity together in this engaging storytime—plus\, take home a special activity to keep the fun going.\nMore info: https://www.wicomicolibrary.org/event/poplar-hill-storytime-21137\nActiveBury: https://www.activebury.com/events/202
URL:https://www.activebury.com/events/202
END:VEVENT
END:VCALENDAR
