BEGIN:VCALENDAR
VERSION:2.0
PRODID:-//ActiveBury//Events//EN
CALSCALE:GREGORIAN
BEGIN:VEVENT
UID:event-2006@activebury.com
DTSTAMP:20260425T134343Z
SUMMARY:Trivia at Burnish with Slim Grady
DTSTART:20260825T180000
DTEND:20260825T200000
LOCATION:Burnish Brewery
DESCRIPTION:Trivia with Slim Grady!\nMore info: https://burnishbeerco.com/calendar\nActiveBury: https://www.activebury.com/events/2006
URL:https://www.activebury.com/events/2006
END:VEVENT
END:VCALENDAR
