BEGIN:VCALENDAR
VERSION:2.0
PRODID:-//ActiveBury//Events//EN
CALSCALE:GREGORIAN
BEGIN:VEVENT
UID:event-2000@activebury.com
DTSTAMP:20260425T133746Z
SUMMARY:Trivia at Burnish with Slim Grady
DTSTART:20260714T180000
DTEND:20260714T200000
LOCATION:Burnish Brewery
DESCRIPTION:Trivia with Slim Grady!\nMore info: https://burnishbeerco.com/calendar\nActiveBury: https://www.activebury.com/events/2000
URL:https://www.activebury.com/events/2000
END:VEVENT
END:VCALENDAR
