BEGIN:VCALENDAR
VERSION:2.0
PRODID:-//ActiveBury//Events//EN
CALSCALE:GREGORIAN
BEGIN:VEVENT
UID:event-200@activebury.com
DTSTAMP:20260425T143528Z
SUMMARY:Homeschool Hub
DTSTART:20260213T150000
DTEND:20260213T160000
LOCATION:Paul S. Sarbanes Branch
DESCRIPTION:This event is in the "Ages 6-11" group This event is in the "Ages 12-18" group 3:00pm–4:00pm Ages 6-11\, Ages 12-18 Paul S. Sarbanes Branch Closed Registration Available This event is in the "Ages 6-11" group This event is in the "Ages 12-18" group Feb 13 2026 Fri Homeschool Hub 3:00pm–4:00pm Paul S. Sarbanes Branch Closed Please note you are looking at an event that has already happened. Paul S. Sarbanes Branch STEAM Studio Ages 6-11 \, Ages 12-18 Arts and Crafts \, STEM \, Games Registration Available Connect with other homeschool families at the library on the second and fourth Friday of each month! On second Fridays\, Youth Services staff will lead hands-on STEAM activities. (s) Attending Children Children under 8 must be monitored by a guardian who is at least 13 years old to assure the sa\nMore info: https://www.wicomicolibrary.org/event/homeschool-hub-21574\nActiveBury: https://www.activebury.com/events/200
URL:https://www.activebury.com/events/200
END:VEVENT
END:VCALENDAR
