BEGIN:VCALENDAR
VERSION:2.0
PRODID:-//ActiveBury//Events//EN
CALSCALE:GREGORIAN
BEGIN:VEVENT
UID:event-2@activebury.com
DTSTAMP:20260425T133253Z
SUMMARY:Walk with a Doc - January
DTSTART;VALUE=DATE:20260103
DTEND;VALUE=DATE:20260104
LOCATION:Downtown Salisbury
DESCRIPTION:More info: https://walkwithadoc.org/join-a-walk/locations/salisbury-maryland/\nActiveBury: https://www.activebury.com/events/2
URL:https://www.activebury.com/events/2
END:VEVENT
END:VCALENDAR
