BEGIN:VCALENDAR
VERSION:2.0
PRODID:-//ActiveBury//Events//EN
CALSCALE:GREGORIAN
BEGIN:VEVENT
UID:event-1990@activebury.com
DTSTAMP:20260425T133739Z
SUMMARY:Trivia at Burnish with Slim Grady
DTSTART:20260505T180000
DTEND:20260505T200000
LOCATION:Burnish Brewery
DESCRIPTION:Trivia with Slim Grady!\nMore info: https://burnishbeerco.com/calendar\nActiveBury: https://www.activebury.com/events/1990
URL:https://www.activebury.com/events/1990
END:VEVENT
END:VCALENDAR
