BEGIN:VCALENDAR
VERSION:2.0
PRODID:-//ActiveBury//Events//EN
CALSCALE:GREGORIAN
BEGIN:VEVENT
UID:event-199@activebury.com
DTSTAMP:20260425T133304Z
SUMMARY:Kings Kids
DTSTART:20260213T111500
DTEND:20260213T120000
LOCATION:Bookmobile
DESCRIPTION:This event is in the "Everyone" group 11:15am–12:00pm Everyone Bookmobile Offsite Event This event is in the "Everyone" group Feb 13 2026 Fri Kings Kids 11:15am–12:00pm Bookmobile Please note you are looking at an event that has already happened. Bookmobile Everyone Other\nMore info: https://www.wicomicolibrary.org/event/kings-kids-20359\nActiveBury: https://www.activebury.com/events/199
URL:https://www.activebury.com/events/199
END:VEVENT
END:VCALENDAR
