BEGIN:VCALENDAR
VERSION:2.0
PRODID:-//ActiveBury//Events//EN
CALSCALE:GREGORIAN
BEGIN:VEVENT
UID:event-1982@activebury.com
DTSTAMP:20260425T133745Z
SUMMARY:Trivia at Burnish with Slim Grady
DTSTART:20260310T180000
DTEND:20260310T200000
LOCATION:Burnish Brewery
DESCRIPTION:Trivia with Slim Grady!\nMore info: https://burnishbeerco.com/calendar\nActiveBury: https://www.activebury.com/events/1982
URL:https://www.activebury.com/events/1982
END:VEVENT
END:VCALENDAR
