BEGIN:VCALENDAR
VERSION:2.0
PRODID:-//ActiveBury//Events//EN
CALSCALE:GREGORIAN
BEGIN:VEVENT
UID:event-1981@activebury.com
DTSTAMP:20260425T133253Z
SUMMARY:Show All
DTSTART:20260401T130000
DTEND:20260401T190000
DESCRIPTION:More info: https://worcesterlibrary.libcal.com/calendar/Library_Events\nActiveBury: https://www.activebury.com/events/1981
URL:https://www.activebury.com/events/1981
END:VEVENT
END:VCALENDAR
