BEGIN:VCALENDAR
VERSION:2.0
PRODID:-//ActiveBury//Events//EN
CALSCALE:GREGORIAN
BEGIN:VEVENT
UID:event-198@activebury.com
DTSTAMP:20260425T133307Z
SUMMARY:Summer's Gate Community
DTSTART:20260213T101500
DTEND:20260213T110000
LOCATION:Bookmobile
DESCRIPTION:This event is in the "Everyone" group 10:15am–11:00am Everyone Bookmobile Offsite Event This event is in the "Everyone" group Feb 13 2026 Fri Summer's Gate Community 10:15am–11:00am Bookmobile Please note you are looking at an event that has already happened. Bookmobile Everyone Johnson Road\nMore info: https://www.wicomicolibrary.org/event/summers-gate-community-20314\nActiveBury: https://www.activebury.com/events/198
URL:https://www.activebury.com/events/198
END:VEVENT
END:VCALENDAR
