BEGIN:VCALENDAR
VERSION:2.0
PRODID:-//ActiveBury//Events//EN
CALSCALE:GREGORIAN
BEGIN:VEVENT
UID:event-1979@activebury.com
DTSTAMP:20260425T133831Z
SUMMARY:Early Readers Bookclub- " Dragon's Fat Cat: An Acorn Book "
DTSTART:20260409T163000
DTEND:20260409T173000
DESCRIPTION:Join us for a book club for new and emerging readers. No need to read the book beforehand\, come out and enjoy a shared reading experience as a group. Afterwards children will play games or do crafts that relate to the story that was read. Best for ages 6 to 8. 410-641-0650.\nMore info: https://worcesterlibrary.libcal.com/event/15791288?hs=a\nActiveBury: https://www.activebury.com/events/1979
URL:https://www.activebury.com/events/1979
END:VEVENT
END:VCALENDAR
