BEGIN:VCALENDAR
VERSION:2.0
PRODID:-//ActiveBury//Events//EN
CALSCALE:GREGORIAN
BEGIN:VEVENT
UID:event-1978@activebury.com
DTSTAMP:20260425T164152Z
SUMMARY:Teen Time: Painting Pots
DTSTART:20260409T153000
DTEND:20260409T180000
LOCATION:Ocean Pines Branch Branch: Ocean Pines Branch Audience: 12 to 18 Categories: Crafts
DESCRIPTION:Decorate your own pot for a plant! All materials provided. While supplies last. Ages 10-18. 410-208-4014\nMore info: https://worcesterlibrary.libcal.com/event/15977688?hs=a\nActiveBury: https://www.activebury.com/events/1978
URL:https://www.activebury.com/events/1978
END:VEVENT
END:VCALENDAR
