BEGIN:VCALENDAR
VERSION:2.0
PRODID:-//ActiveBury//Events//EN
CALSCALE:GREGORIAN
BEGIN:VEVENT
UID:event-1977@activebury.com
DTSTAMP:20260425T133943Z
SUMMARY:Merry Makers: Pressed Flower Lanterns
DTSTART:20260409T140000
DTEND:20260409T160000
LOCATION:Ocean Pines Large Meeting Room Branch: Ocean Pines Branch Audience: Adults Categories: Crafts
DESCRIPTION:Transform plain\, glass yogurt jars into lovely artful lanterns with pressed flowers. 410-208-4014\nMore info: https://worcesterlibrary.libcal.com/event/14914256?hs=a\nActiveBury: https://www.activebury.com/events/1977
URL:https://www.activebury.com/events/1977
END:VEVENT
END:VCALENDAR
