BEGIN:VCALENDAR
VERSION:2.0
PRODID:-//ActiveBury//Events//EN
CALSCALE:GREGORIAN
BEGIN:VEVENT
UID:event-1975@activebury.com
DTSTAMP:20260425T133944Z
SUMMARY:Storytime: There was an Old Lady
DTSTART:20260409T103000
DTEND:20260409T113000
LOCATION:Ocean Pines Large Meeting Room Branch: Ocean Pines Branch Audience: Birth to 5 Categories: Storytime
DESCRIPTION:We will have songs\, dancing and crafts! For ages 2-5. 410-208-4014\nMore info: https://worcesterlibrary.libcal.com/event/14829102?hs=a\nActiveBury: https://www.activebury.com/events/1975
URL:https://www.activebury.com/events/1975
END:VEVENT
END:VCALENDAR
