BEGIN:VCALENDAR
VERSION:2.0
PRODID:-//ActiveBury//Events//EN
CALSCALE:GREGORIAN
BEGIN:VEVENT
UID:event-1974@activebury.com
DTSTAMP:20260425T164401Z
SUMMARY:Story Time "Where is the Green Sheep?"
DTSTART:20260409T103000
DTEND:20260409T113000
LOCATION:Snow Hill Meeting Room Branch: Snow Hill Branch Audience: Birth to 5 Categories: Storytime
DESCRIPTION:Join us for stories\, songs\, and rhymes. Stay to play and socialize. For 2 to 5 year old children.\nMore info: https://worcesterlibrary.libcal.com/event/15954086?hs=a\nActiveBury: https://www.activebury.com/events/1974
URL:https://www.activebury.com/events/1974
END:VEVENT
END:VCALENDAR
