BEGIN:VCALENDAR
VERSION:2.0
PRODID:-//ActiveBury//Events//EN
CALSCALE:GREGORIAN
BEGIN:VEVENT
UID:event-1973@activebury.com
DTSTAMP:20260425T133313Z
SUMMARY:Chair Yoga
DTSTART:20260409T100000
DTEND:20260409T110000
LOCATION:Pocomoke Meeting Room Branch: Pocomoke Branch Audience: Adults Categories: Health/Wellness
DESCRIPTION:Join Tidal Health Community Health Educator Bobbi McDonald for a morning of stretching and relaxation.\nMore info: https://worcesterlibrary.libcal.com/event/15824903?hs=a\nActiveBury: https://www.activebury.com/events/1973
URL:https://www.activebury.com/events/1973
END:VEVENT
END:VCALENDAR
