BEGIN:VCALENDAR
VERSION:2.0
PRODID:-//ActiveBury//Events//EN
CALSCALE:GREGORIAN
BEGIN:VEVENT
UID:event-1970@activebury.com
DTSTAMP:20260425T134024Z
SUMMARY:Pajama Story Time
DTSTART:20260408T183000
DTEND:20260408T190000
LOCATION:Berlin Branch Branch: Berlin Branch Categories: Storytime
DESCRIPTION:Wear your pajamas and bring your favorite stuffie to snuggle while you enjoy stories and songs to wind down to bedtime. For children aged 0-5. 410-641-0650.\nMore info: https://worcesterlibrary.libcal.com/event/15992264?hs=a\nActiveBury: https://www.activebury.com/events/1970
URL:https://www.activebury.com/events/1970
END:VEVENT
END:VCALENDAR
