BEGIN:VCALENDAR
VERSION:2.0
PRODID:-//ActiveBury//Events//EN
CALSCALE:GREGORIAN
BEGIN:VEVENT
UID:event-1968@activebury.com
DTSTAMP:20260425T133821Z
SUMMARY:Maryland 250 Trivia at Tourism
DTSTART:20260408T140000
DTEND:20260408T150000
LOCATION:Offsite - See Description Branch: Snow Hill Branch Audience: Adults Categories: Games
DESCRIPTION:Compete against your friends to see who knows the most about the state of Maryland! Worcester County Tourism\, 107 W Green St\, Snow Hill\nMore info: https://worcesterlibrary.libcal.com/event/16503369?hs=a\nActiveBury: https://www.activebury.com/events/1968
URL:https://www.activebury.com/events/1968
END:VEVENT
END:VCALENDAR
