BEGIN:VCALENDAR
VERSION:2.0
PRODID:-//ActiveBury//Events//EN
CALSCALE:GREGORIAN
BEGIN:VEVENT
UID:event-1966@activebury.com
DTSTAMP:20260425T182824Z
SUMMARY:Homeschool History
DTSTART:20260408T120000
DTEND:20260408T130000
LOCATION:Ocean City Meeting Room Branch: Ocean City Branch Audience: 6 to 11 Categories: Crafts Games History & Genealogy
DESCRIPTION:Join us as we learn facts about different historical time periods through reading\, writing\, and games. For ages 6-11. 410-524-1818.\nMore info: https://worcesterlibrary.libcal.com/event/15925308?hs=a\nActiveBury: https://www.activebury.com/events/1966
URL:https://www.activebury.com/events/1966
END:VEVENT
END:VCALENDAR
