BEGIN:VCALENDAR
VERSION:2.0
PRODID:-//ActiveBury//Events//EN
CALSCALE:GREGORIAN
BEGIN:VEVENT
UID:event-1964@activebury.com
DTSTAMP:20260425T133309Z
SUMMARY:Baby Time
DTSTART:20260408T100000
DTEND:20260408T103000
LOCATION:Ocean Pines Branch Branch: Ocean Pines Branch Audience: Birth to 5 Categories: Music and Movement
DESCRIPTION:Join us for songs\, stories and giggles!For ages 0-2. 410-208-4014\nMore info: https://worcesterlibrary.libcal.com/event/14691323?hs=a\nActiveBury: https://www.activebury.com/events/1964
URL:https://www.activebury.com/events/1964
END:VEVENT
END:VCALENDAR
