BEGIN:VCALENDAR
VERSION:2.0
PRODID:-//ActiveBury//Events//EN
CALSCALE:GREGORIAN
BEGIN:VEVENT
UID:event-1963@activebury.com
DTSTAMP:20260425T133301Z
SUMMARY:Librarian Scavenger Hunt
DTSTART:20260408T090000
DTEND:20260408T170000
LOCATION:Ocean Pines Branch Branch: Ocean Pines Branch Audience: 6 to 11 Families Categories: Games
DESCRIPTION:The Ocean Pines Librarians are hiding around the library! Can you find them all and unscramble the letters to solve the riddle? Ages 5 and up. 410-208-4014\nMore info: https://worcesterlibrary.libcal.com/event/15979874?hs=a\nActiveBury: https://www.activebury.com/events/1963
URL:https://www.activebury.com/events/1963
END:VEVENT
END:VCALENDAR
