BEGIN:VCALENDAR
VERSION:2.0
PRODID:-//ActiveBury//Events//EN
CALSCALE:GREGORIAN
BEGIN:VEVENT
UID:event-1961@activebury.com
DTSTAMP:20260425T182428Z
SUMMARY:Building Bridges
DTSTART:20260407T163000
DTEND:20260407T173000
LOCATION:Ocean Pines Large Meeting Room Branch: Ocean Pines Branch Audience: 6 to 11 Categories: Crafts STEM
DESCRIPTION:Can you build a bridge? How about one that holds a car? Two cars? Test your engineering skills! Ages 6-11. 410-208-4014\nMore info: https://worcesterlibrary.libcal.com/event/14930061?hs=a\nActiveBury: https://www.activebury.com/events/1961
URL:https://www.activebury.com/events/1961
END:VEVENT
END:VCALENDAR
