BEGIN:VCALENDAR
VERSION:2.0
PRODID:-//ActiveBury//Events//EN
CALSCALE:GREGORIAN
BEGIN:VEVENT
UID:event-1959@activebury.com
DTSTAMP:20260425T134007Z
SUMMARY:Movie Matinee: Regretting You
DTSTART:20260407T140000
DTEND:20260407T160000
LOCATION:Ocean Pines Large Meeting Room Branch: Ocean Pines Branch Audience: Adults Categories: Film/Movie
DESCRIPTION:Missed it in theaters? Come catch a movie you may have wanted to see. 410-208-4014\nMore info: https://worcesterlibrary.libcal.com/event/15057613?hs=a\nActiveBury: https://www.activebury.com/events/1959
URL:https://www.activebury.com/events/1959
END:VEVENT
END:VCALENDAR
