BEGIN:VCALENDAR
VERSION:2.0
PRODID:-//ActiveBury//Events//EN
CALSCALE:GREGORIAN
BEGIN:VEVENT
UID:event-1958@activebury.com
DTSTAMP:20260425T134025Z
SUMMARY:Secrets of the Eastern Shore
DTSTART:20260407T140000
DTEND:20260407T150000
LOCATION:Ocean City Meeting Room Branch: Ocean City Branch Audience: Adults Categories: Lecture/Presentation
DESCRIPTION:Delmarva storyteller Jim Duffy from Secrets of the Eastern Shore and WBOC-TV’s DelmarvaLife is going to tell true-life tales from Delmarva days gone by. Duffy has written six books about the Delmarva Peninsula\, including two collections of “Eastern Shore Road Trips.” His latest book is a collection of inspiring tales\, “Ordinary Heroes of Old Delmarva.” He is a regular on WBOC-TV’s DelmarvaLife\, telling Throwback Thursday stories on television. He's the man behind the curtain at “Secrets of the Eastern Shore” on the web and social media.\nMore info: https://worcesterlibrary.libcal.com/event/15843769?hs=a\nActiveBury: https://www.activebury.com/events/1958
URL:https://www.activebury.com/events/1958
END:VEVENT
END:VCALENDAR
