BEGIN:VCALENDAR
VERSION:2.0
PRODID:-//ActiveBury//Events//EN
CALSCALE:GREGORIAN
BEGIN:VEVENT
UID:event-1957@activebury.com
DTSTAMP:20260425T133423Z
SUMMARY:OC Knitting Group
DTSTART:20260407T103000
DTEND:20260407T120000
LOCATION:Ocean City Meeting Room Branch: Ocean City Branch Audience: Adults Categories: Crafts
DESCRIPTION:Do you love to knit or crochet? Bring whatever project you happen to be working on. We hope to see you there! 410-524-1818\nMore info: https://worcesterlibrary.libcal.com/event/15885305?hs=a\nActiveBury: https://www.activebury.com/events/1957
URL:https://www.activebury.com/events/1957
END:VEVENT
END:VCALENDAR
