BEGIN:VCALENDAR
VERSION:2.0
PRODID:-//ActiveBury//Events//EN
CALSCALE:GREGORIAN
BEGIN:VEVENT
UID:event-1956@activebury.com
DTSTAMP:20260425T133426Z
SUMMARY:Playtime
DTSTART:20260407T103000
DTEND:20260407T113000
LOCATION:Pocomoke Branch Branch: Pocomoke Branch Audience: Birth to 5 Categories: Storytime
DESCRIPTION:Join us for a variety of activities and toys. Play and socialize with other families. For ages 0-5. 410-957-0878.\nMore info: https://worcesterlibrary.libcal.com/event/16331175?hs=a\nActiveBury: https://www.activebury.com/events/1956
URL:https://www.activebury.com/events/1956
END:VEVENT
END:VCALENDAR
