BEGIN:VCALENDAR
VERSION:2.0
PRODID:-//ActiveBury//Events//EN
CALSCALE:GREGORIAN
BEGIN:VEVENT
UID:event-1949@activebury.com
DTSTAMP:20260425T133740Z
SUMMARY:Story Time: I Love the Library!
DTSTART:20260406T103000
DTEND:20260406T113000
LOCATION:Ocean City Meeting Room Branch: Ocean City Branch Audience: Birth to 5 Categories: Storytime
DESCRIPTION:Join us for crafts\, songs\, and stories. For children ages 0 to 5. 410-524-1818\nMore info: https://worcesterlibrary.libcal.com/event/15868186?hs=a\nActiveBury: https://www.activebury.com/events/1949
URL:https://www.activebury.com/events/1949
END:VEVENT
END:VCALENDAR
