BEGIN:VCALENDAR
VERSION:2.0
PRODID:-//ActiveBury//Events//EN
CALSCALE:GREGORIAN
BEGIN:VEVENT
UID:event-1946@activebury.com
DTSTAMP:20260425T133949Z
SUMMARY:OC Mahjong Club
DTSTART:20260403T103000
DTEND:20260403T123000
LOCATION:Ocean City Meeting Room Branch: Ocean City Branch Audience: Adults Categories: Games
DESCRIPTION:Join us for a fun morning of playing tile Mahjong. Feel free to bring your own tile set. All adults are welcome! 410-524-1818.\nMore info: https://worcesterlibrary.libcal.com/event/15885429?hs=a\nActiveBury: https://www.activebury.com/events/1946
URL:https://www.activebury.com/events/1946
END:VEVENT
END:VCALENDAR
