BEGIN:VCALENDAR
VERSION:2.0
PRODID:-//ActiveBury//Events//EN
CALSCALE:GREGORIAN
BEGIN:VEVENT
UID:event-1944@activebury.com
DTSTAMP:20260425T133908Z
SUMMARY:Rock Castle Home: Movie & Discussion
DTSTART:20260402T140000
DTEND:20260402T151500
LOCATION:Ocean Pines Large Meeting Room Branch: Ocean Pines Branch Audience: Adults Categories: Discussion Film/Movie Lecture/Presentation
DESCRIPTION:Hand-built cabins\, grist mills\, and whiskey stills characterized Rock Castle Gorge\, a mountain community displaced by the Blue Ridge Parkway in the 1930s. Dr. Ralph Lutts will show an award-winning film and discuss this loss of place and culture in the not-so-empty wilderness. 410-208-4014.\nMore info: https://worcesterlibrary.libcal.com/event/15720172?hs=a\nActiveBury: https://www.activebury.com/events/1944
URL:https://www.activebury.com/events/1944
END:VEVENT
END:VCALENDAR
