BEGIN:VCALENDAR
VERSION:2.0
PRODID:-//ActiveBury//Events//EN
CALSCALE:GREGORIAN
BEGIN:VEVENT
UID:event-1943@activebury.com
DTSTAMP:20260425T134004Z
SUMMARY:Pocomoke Branch Book Club: The Cellist of Sarajevo by Steven Galloway
DTSTART:20260402T140000
DTEND:20260402T150000
LOCATION:Pocomoke Branch Branch: Pocomoke Branch Audience: Adults Categories: Discussion
DESCRIPTION:Join us for a lively discussion each month. Stop by the Pocomoke Branch to pick up a copy in advance.\nMore info: https://worcesterlibrary.libcal.com/event/15877980?hs=a\nActiveBury: https://www.activebury.com/events/1943
URL:https://www.activebury.com/events/1943
END:VEVENT
END:VCALENDAR
