BEGIN:VCALENDAR
VERSION:2.0
PRODID:-//ActiveBury//Events//EN
CALSCALE:GREGORIAN
BEGIN:VEVENT
UID:event-1940@activebury.com
DTSTAMP:20260425T133325Z
SUMMARY:Playtime
DTSTART:20260402T103000
DTEND:20260402T113000
LOCATION:Snow Hill Meeting Room Branch: Snow Hill Branch Audience: Birth to 5 Categories: Games
DESCRIPTION:Join us for a variety of activities and toys. Play and socialize with other families. Ages 2-5.\nMore info: https://worcesterlibrary.libcal.com/event/15953655?hs=a\nActiveBury: https://www.activebury.com/events/1940
URL:https://www.activebury.com/events/1940
END:VEVENT
END:VCALENDAR
