BEGIN:VCALENDAR
VERSION:2.0
PRODID:-//ActiveBury//Events//EN
CALSCALE:GREGORIAN
BEGIN:VEVENT
UID:event-1935@activebury.com
DTSTAMP:20260425T133417Z
SUMMARY:Poetry Kit
DTSTART;VALUE=DATE:20260401
DTEND;VALUE=DATE:20260402
LOCATION:Ocean City Branch Branch: Ocean City Branch Audience: 12 to 18 6 to 11 Categories: Crafts
DESCRIPTION:Come to the library and grab your very own interactive poetry kit to keep yourself writing all month long! Prompt packets available for ages 6-11 and 12-18. 410-524-1818.\nMore info: https://worcesterlibrary.libcal.com/event/15869004?hs=a\nActiveBury: https://www.activebury.com/events/1935
URL:https://www.activebury.com/events/1935
END:VEVENT
END:VCALENDAR
