BEGIN:VCALENDAR
VERSION:2.0
PRODID:-//ActiveBury//Events//EN
CALSCALE:GREGORIAN
BEGIN:VEVENT
UID:event-1934@activebury.com
DTSTAMP:20260425T133413Z
SUMMARY:Easter Crafts
DTSTART;VALUE=DATE:20260401
DTEND;VALUE=DATE:20260402
LOCATION:Ocean Pines Branch Branch: Ocean Pines Branch Audience: Families Categories: Crafts
DESCRIPTION:Pop in and get creative with some holiday-themed crafts! While supplies last. For families. 410-208-4014\nMore info: https://worcesterlibrary.libcal.com/event/15980698?hs=a\nActiveBury: https://www.activebury.com/events/1934
URL:https://www.activebury.com/events/1934
END:VEVENT
END:VCALENDAR
