BEGIN:VCALENDAR
VERSION:2.0
PRODID:-//ActiveBury//Events//EN
CALSCALE:GREGORIAN
BEGIN:VEVENT
UID:event-1933@activebury.com
DTSTAMP:20260425T133826Z
SUMMARY:The Stories of Hans Christian Andersen
DTSTART;VALUE=DATE:20260401
DTEND;VALUE=DATE:20260402
LOCATION:Snow Hill Branch Branch: Snow Hill Branch Audience: Families Categories: Crafts
DESCRIPTION:Celebrate the author’s birthday with a make and take craft kit and a visit to our StoryWalk. Stop by any time to pick up supplies for your own fairy tale diorama. Then learn about Andersen through a picture book biography at John Walter Smith Park. For families. 410-632-3495.\nMore info: https://worcesterlibrary.libcal.com/event/15955996?hs=a\nActiveBury: https://www.activebury.com/events/1933
URL:https://www.activebury.com/events/1933
END:VEVENT
END:VCALENDAR
