BEGIN:VCALENDAR
VERSION:2.0
PRODID:-//ActiveBury//Events//EN
CALSCALE:GREGORIAN
BEGIN:VEVENT
UID:event-1932@activebury.com
DTSTAMP:20260425T133902Z
SUMMARY:History Hunters Challenge
DTSTART;VALUE=DATE:20260401
DTEND;VALUE=DATE:20260402
LOCATION:All Branches Branch: All Branches Audience: 12 to 18 6 to 11 Families Categories: History & Genealogy
DESCRIPTION:Celebrate Maryland 250 by exploring local history and uncover the stories that shaped our county! Pick up a field guide and your paper traveling companion from a local library branch\, visit historic sites\, read books and snap pictures of your adventures along the way. See what stories you can unearth this spring! Return your field guide to a branch when you're finished or log your activities online on beanstack to enter the drawing for a prize. For families. 443-235-5597.\nMore info: https://worcesterlibrary.libcal.com/event/16202026?hs=a\nActiveBury: https://www.activebury.com/events/1932
URL:https://www.activebury.com/events/1932
END:VEVENT
END:VCALENDAR
