BEGIN:VCALENDAR
VERSION:2.0
PRODID:-//ActiveBury//Events//EN
CALSCALE:GREGORIAN
BEGIN:VEVENT
UID:event-1930@activebury.com
DTSTAMP:20260425T133413Z
SUMMARY:Merry Makers: Button Bracelets
DTSTART:20260312T140000
DTEND:20260312T160000
LOCATION:Ocean Pines Large Meeting Room Branch: Ocean Pines Branch Audience: Adults Categories: Crafts
DESCRIPTION:Join Merry Makers as we use buttons and waxed twine to create beautiful\, one-of-a-kind bracelets. Registration required\, limit 10. 410-208-4014\nMore info: https://worcesterlibrary.libcal.com/event/14914253?hs=a\nActiveBury: https://www.activebury.com/events/1930
URL:https://www.activebury.com/events/1930
END:VEVENT
END:VCALENDAR
