BEGIN:VCALENDAR
VERSION:2.0
PRODID:-//ActiveBury//Events//EN
CALSCALE:GREGORIAN
BEGIN:VEVENT
UID:event-1928@activebury.com
DTSTAMP:20260425T153425Z
SUMMARY:MD 250 Event: Bee Keeping in the Colonial Era
DTSTART:20260312T140000
DTEND:20260312T150000
LOCATION:Pocomoke Branch Branch: Pocomoke Branch Audience: Adults Categories: Class/Workshop Discussion
DESCRIPTION:Back in the day\, early settlers brought honey bees to the new world. Learn how the bees made the trip\,how their honey and wax were harvested in colonial America and how bees have learned to adapt since their arrival in 1622.\nMore info: https://worcesterlibrary.libcal.com/event/15877885?hs=a\nActiveBury: https://www.activebury.com/events/1928
URL:https://www.activebury.com/events/1928
END:VEVENT
END:VCALENDAR
