BEGIN:VCALENDAR
VERSION:2.0
PRODID:-//ActiveBury//Events//EN
CALSCALE:GREGORIAN
BEGIN:VEVENT
UID:event-1927@activebury.com
DTSTAMP:20260425T133439Z
SUMMARY:Bingo
DTSTART:20260312T140000
DTEND:20260312T150000
LOCATION:Ocean City Meeting Room Branch: Ocean City Branch Audience: Adults Categories: Games
DESCRIPTION:Join us for a lively game of Bingo and win fun prizes! 410-524-1818.\nMore info: https://worcesterlibrary.libcal.com/event/15982908?hs=a\nActiveBury: https://www.activebury.com/events/1927
URL:https://www.activebury.com/events/1927
END:VEVENT
END:VCALENDAR
