BEGIN:VCALENDAR
VERSION:2.0
PRODID:-//ActiveBury//Events//EN
CALSCALE:GREGORIAN
BEGIN:VEVENT
UID:event-1926@activebury.com
DTSTAMP:20260425T133955Z
SUMMARY:Storytime: St. Patrick's Day
DTSTART:20260312T103000
DTEND:20260312T113000
LOCATION:Ocean Pines Large Meeting Room Branch: Ocean Pines Branch Audience: Birth to 5 Categories: Storytime
DESCRIPTION:We will have songs\, dancing and crafts! For ages 2-5. 410-208-4014\nMore info: https://worcesterlibrary.libcal.com/event/14829098?hs=a\nActiveBury: https://www.activebury.com/events/1926
URL:https://www.activebury.com/events/1926
END:VEVENT
END:VCALENDAR
