BEGIN:VCALENDAR
VERSION:2.0
PRODID:-//ActiveBury//Events//EN
CALSCALE:GREGORIAN
BEGIN:VEVENT
UID:event-1921@activebury.com
DTSTAMP:20260425T133747Z
SUMMARY:Board of Trustees Meeting
DTSTART:20260310T093000
DTEND:20260310T113000
LOCATION:Ocean City Branch: Ocean City Branch Audience: Adults Categories: Board of Trustees Meetings Attachments: Board_Mtg_Agenda_3_10_26.pdf
DESCRIPTION:All meetings are open to the public.\nMore info: https://worcesterlibrary.libcal.com/event/16032447?hs=a\nActiveBury: https://www.activebury.com/events/1921
URL:https://www.activebury.com/events/1921
END:VEVENT
END:VCALENDAR
