BEGIN:VCALENDAR
VERSION:2.0
PRODID:-//ActiveBury//Events//EN
CALSCALE:GREGORIAN
BEGIN:VEVENT
UID:event-1919@activebury.com
DTSTAMP:20260425T133425Z
SUMMARY:RunSBY Events
DTSTART;VALUE=DATE:20260411
DTEND;VALUE=DATE:20260412
LOCATION:Wicomico County
DESCRIPTION:More info: https://www.sbymarathon.com/\nActiveBury: https://www.activebury.com/events/1919
URL:https://www.activebury.com/events/1919
END:VEVENT
END:VCALENDAR
